BEGIN:VCALENDAR
VERSION:2.0
PRODID:-//Criminal Law Section of The Florida Bar - ECPv6.15.20//NONSGML v1.0//EN
CALSCALE:GREGORIAN
METHOD:PUBLISH
X-WR-CALNAME:Criminal Law Section of The Florida Bar
X-ORIGINAL-URL:https://floridabarcls.org
X-WR-CALDESC:Events for Criminal Law Section of The Florida Bar
REFRESH-INTERVAL;VALUE=DURATION:PT1H
X-Robots-Tag:noindex
X-PUBLISHED-TTL:PT1H
BEGIN:VTIMEZONE
TZID:America/New_York
BEGIN:DAYLIGHT
TZOFFSETFROM:-0500
TZOFFSETTO:-0400
TZNAME:EDT
DTSTART:20240310T070000
END:DAYLIGHT
BEGIN:STANDARD
TZOFFSETFROM:-0400
TZOFFSETTO:-0500
TZNAME:EST
DTSTART:20241103T060000
END:STANDARD
BEGIN:DAYLIGHT
TZOFFSETFROM:-0500
TZOFFSETTO:-0400
TZNAME:EDT
DTSTART:20250309T070000
END:DAYLIGHT
BEGIN:STANDARD
TZOFFSETFROM:-0400
TZOFFSETTO:-0500
TZNAME:EST
DTSTART:20251102T060000
END:STANDARD
BEGIN:DAYLIGHT
TZOFFSETFROM:-0500
TZOFFSETTO:-0400
TZNAME:EDT
DTSTART:20260308T070000
END:DAYLIGHT
BEGIN:STANDARD
TZOFFSETFROM:-0400
TZOFFSETTO:-0500
TZNAME:EST
DTSTART:20261101T060000
END:STANDARD
END:VTIMEZONE
BEGIN:VEVENT
DTSTART;TZID=America/New_York:20250626T080000
DTEND;TZID=America/New_York:20250626T170000
DTSTAMP:20260421T084816
CREATED:20250513T203009Z
LAST-MODIFIED:20250513T212306Z
UID:21280-1750924800-1750957200@floridabarcls.org
SUMMARY:
DESCRIPTION:Register through the Annual Florida Bar Convention. Live (in person) only\, this essential Criminal Law Update is your key to staying ahead. Gain critical insights on new case law\, DUI developments\, and the evolving landscape of crimmigration. Be inspired by powerful visions from Supreme Court Justice John Couriel\, retired Justice Peggy Quince\, and the Honorable Carey Haughwout\, retired Palm Beach County Public Defender. Attain new perspectives from our thought-provoking panel discussion on a lawyer’s place in contemporary America. Don’t miss this vital program! Course number 8592 is approved for 8 CLE credits\, 2 Ethics; 8 Appellate Practice\, 8 Criminal Appellate\, and 8 Criminal Trial.
URL:https://floridabarcls.org/event/criminal-law-update-2025/
LOCATION:The Boca Raton\, 501 E. Camino Real\, Boca Raton\, 33432
CATEGORIES:events,Upcoming CLE Courses
ATTACH;FMTTYPE=image/png:https://floridabarcls.org/wp-content/uploads/2025/05/CLS-Criminal-Law-Update-2025.png
END:VEVENT
BEGIN:VEVENT
DTSTART;TZID=America/New_York:20250627T080000
DTEND;TZID=America/New_York:20250627T113000
DTSTAMP:20260421T084816
CREATED:20250513T202243Z
LAST-MODIFIED:20250513T202509Z
UID:21276-1751011200-1751023800@floridabarcls.org
SUMMARY:
DESCRIPTION:June 27\, 2025\, at 8:30 a.m. (in person at The Boca Raton\, 501 East Camino Real\, Boca Raton\, in Estate Ballroom II). Breakfast starts at 8:00 a.m. \nCriminal Law Section members and anyone interested in getting involved in the section are welcome to attend our EC meetings. We encourage you to join us in person during the Annual Florida Bar Convention to learn more about the section\, its mission\, ways to participate on committees\, present CLEs\, and become part of the Executive Council. \n 
URL:https://floridabarcls.org/event/june-executive-council-meeting/
LOCATION:The Boca Raton\, 501 E. Camino Real\, Boca Raton\, 33432
CATEGORIES:events
ATTACH;FMTTYPE=image/png:https://floridabarcls.org/wp-content/uploads/2025/05/2025-EC-Meeting-at-Annual.png
END:VEVENT
BEGIN:VEVENT
DTSTART;TZID=America/New_York:20250627T113000
DTEND;TZID=America/New_York:20250627T140000
DTSTAMP:20260421T084816
CREATED:20250513T201501Z
LAST-MODIFIED:20250513T202621Z
UID:21273-1751023800-1751032800@floridabarcls.org
SUMMARY:
DESCRIPTION:Retired Florida Supreme Court Justice Peggy A. Quince has been selected to receive the Criminal Law Section’s 2025 Selig I. Goldin Memorial Award in recognition of her outstanding contributions to Florida’s criminal justice system and her enduring commitment to the practice of criminal law. Read the Bar News story here. \nJustice Quince will accept the award at the Selig I. Goldin Memorial Award Luncheon on Friday\, June 27\, from 11:30 a.m. to 2 p.m. during the Annual Florida Bar Convention at The Boca Raton in Boca Raton\, FL. The luncheon will be in Addison Ballroom West and registration is through the Annual Florida Bar Convention. \nThe section’s executive council voted unanimously to honor Justice Quince with the Criminal Law Section’s highest award.
URL:https://floridabarcls.org/event/2025-selig-i-goldin-memorial-award-luncheon/
LOCATION:The Boca Raton\, 501 E. Camino Real\, Boca Raton\, 33432
CATEGORIES:events,law
ATTACH;FMTTYPE=image/png:https://floridabarcls.org/wp-content/uploads/2025/05/2025-Goldin-Award-Luncheon.png
END:VEVENT
BEGIN:VEVENT
DTSTART;TZID=America/New_York:20250627T130000
DTEND;TZID=America/New_York:20250627T140000
DTSTAMP:20260421T084816
CREATED:20250513T212601Z
LAST-MODIFIED:20251016T131717Z
UID:21284-1751029200-1751032800@floridabarcls.org
SUMMARY:Confronting Tomorrow Today: The Ethical and Professional Impact and Implications of AI In the Courtroom
DESCRIPTION:“Confronting Tomorrow Today: The Ethical and Professional Impact and Implications of AI In and Out of the Courtroom” is a FREE CLE for guests who register to attend the Criminal Law Section’s Selig I. Goldin Memorial Award Luncheon. \nGoldin Award luncheon guests may attend a complimentary CLE opportunity immediately following the presentation. Judge P. Kevin Castel of the U.S. District Court for the Southern District of New York will address the use and misuse of AI in the courts. Judge Castel sanctioned a law firm after it submitted fabricated opinions and citations provided by ChatGPT. The Goldin Award luncheon and CLE will be in Addison Ballroom West and registration is through the Annual Florida Bar Convention.
URL:https://floridabarcls.org/event/confronting-tomorrow-today-the-ethical-and-professional-impact-and-implications-of-ai-in-and-out-of-the-courtroom/
LOCATION:The Boca Raton\, 501 E. Camino Real\, Boca Raton\, 33432
CATEGORIES:events,Upcoming CLE Courses
ATTACH;FMTTYPE=image/png:https://floridabarcls.org/wp-content/uploads/2025/05/Confronting-Tomorrow-Today.png
END:VEVENT
END:VCALENDAR