BEGIN:VCALENDAR
VERSION:2.0
PRODID:-//Criminal Law Section of The Florida Bar - ECPv6.15.20//NONSGML v1.0//EN
CALSCALE:GREGORIAN
METHOD:PUBLISH
X-WR-CALNAME:Criminal Law Section of The Florida Bar
X-ORIGINAL-URL:https://floridabarcls.org
X-WR-CALDESC:Events for Criminal Law Section of The Florida Bar
REFRESH-INTERVAL;VALUE=DURATION:PT1H
X-Robots-Tag:noindex
X-PUBLISHED-TTL:PT1H
BEGIN:VTIMEZONE
TZID:America/New_York
BEGIN:DAYLIGHT
TZOFFSETFROM:-0500
TZOFFSETTO:-0400
TZNAME:EDT
DTSTART:20240310T070000
END:DAYLIGHT
BEGIN:STANDARD
TZOFFSETFROM:-0400
TZOFFSETTO:-0500
TZNAME:EST
DTSTART:20241103T060000
END:STANDARD
BEGIN:DAYLIGHT
TZOFFSETFROM:-0500
TZOFFSETTO:-0400
TZNAME:EDT
DTSTART:20250309T070000
END:DAYLIGHT
BEGIN:STANDARD
TZOFFSETFROM:-0400
TZOFFSETTO:-0500
TZNAME:EST
DTSTART:20251102T060000
END:STANDARD
BEGIN:DAYLIGHT
TZOFFSETFROM:-0500
TZOFFSETTO:-0400
TZNAME:EDT
DTSTART:20260308T070000
END:DAYLIGHT
BEGIN:STANDARD
TZOFFSETFROM:-0400
TZOFFSETTO:-0500
TZNAME:EST
DTSTART:20261101T060000
END:STANDARD
END:VTIMEZONE
BEGIN:VEVENT
DTSTART;TZID=America/New_York:20250212T120000
DTEND;TZID=America/New_York:20250212T130000
DTSTAMP:20260421T144018
CREATED:20241229T112228Z
LAST-MODIFIED:20260114T155519Z
UID:21128-1739361600-1739365200@floridabarcls.org
SUMMARY:FREE CLE:  Guidelines About Guidelines
DESCRIPTION:Live Zoom webinar by Alexander J. Gilewicz\, Assistant State Attorney\, 7th Judicial Circuit. Hosted by Alexa Cline\, Assistant Statewide Prosecutor\, Florida Office of the Attorney General\, and Sarah Morris\, Director of Operations\, First DCA Office of Criminal Conflict and Civil Regional Counsel. Course number 8891 is approved for 1 CLE\, 1 Criminal Appellate\, and 1 Criminal Trial. FREE CLE for Criminal Law Section members. \nAre you up to speed on the ins and outs of criminal code scoresheets? If you’re new to handling felony cases in Circuit Court\, don’t miss “Guidelines About Guidelines\,” useful information and tips for prosecutors and defense attorneys. Seventh Circuit Assistant State Attorney Alexander J. Gilewicz will share insights and best practices. \nA criminal code scoresheet is required for all felonies subject to the Criminal Punishment Code. The scoresheet forms are the primary source of key data for the Florida Department of Corrections and the Criminal Justice Estimating Conference—necessitating consistent\, unambiguous definitions and uniform accurate scoring procedures. \n\n\nAlexander J. Gilewicz is an Assistant State Attorney with the 7th Judicial Circuit working in Putnam County.  His caseload includes a wide range of felony charges including those punishable by life in prison.  Alexander spent eight years in the United States Marine Corps before moving to Florida to attend law school. He graduated from Florida Coastal School of Law in 2015 and began his legal career as a criminal defense attorney before moving across the aisle.  Alexander is an Associate member of the St. Augustine Inns of Court and a member of the Putnam County Bar Association.
URL:https://floridabarcls.org/event/free-cle-guidelines-about-guidelines/
LOCATION:Zoom
CATEGORIES:events
ATTACH;FMTTYPE=image/png:https://floridabarcls.org/wp-content/uploads/2024/12/Guidelines-About-Guidelines-WEB.png
END:VEVENT
BEGIN:VEVENT
DTSTART;TZID=America/New_York:20250224T084500
DTEND;TZID=America/New_York:20250224T170000
DTSTAMP:20260421T144018
CREATED:20241229T151536Z
LAST-MODIFIED:20250424T135141Z
UID:21134-1740386700-1740416400@floridabarcls.org
SUMMARY:
DESCRIPTION:Originally presented on February 24\, 2025\, live (in person) at the Orange County Bar Association in Orlando. Course number 8788 is approved for: 8 CLE\, 2 Technology\, and 8 board certification credits each in Appellate Practice\, Civil Trial\, Criminal Appellate\, Criminal Trial\, and Juvenile Law. Hosted by The Florida Bar Criminal Law and Trial Lawyers Sections. \nThis one-day seminar has been designed to appeal to civil\, criminal\, and appellate practitioners. Those in attendance will benefit from a thorough discussion of the latest developments in Florida evidence law\, and an exploration of difficult\, recurring evidentiary issues. \nCourse Level: Advanced. This course’s on-demand\, podcast\, audio CD\, and video DVD products will be available to purchase the week following the in-person seminar. \n\nAGENDA AND PRESENTERS \n\n\n\nTIME\nSESSION DESCRIPTION\n\n\n8:45-9:00\nWelcome Remarks\n\n\n9:00-9:50\nApplication of the Daubert Standard in Florida \nAaron Kelley\, Esq. & Patrick Montoya\, Esq. \nThis one-hour session will focus on how Florida criminal and civil courts have applied the Daubert analysis in determining the reliability and relevance of expert witness testimony. The session will be led by seasoned practitioners in civil and criminal courts and will discuss the five “reliability” prongs of the Daubert standard along with strategic approaches for (1) challenging the admissibility of an opposing party’s proposed expert evidence and (2) ensuring your expert’s testimony holds up against a Daubert challenge.\n\n\n10:00-10:50\nHearsay You Say? On Keeping the Present Sense Impression and Excited Utterance Exceptions \nSpeaker to be confirmed \nThis session will delve into exceptions to hearsay— present sense impressions and excited utterances—and the differences between the two exceptions.\n\n\n11:00-11:50\nUnregulated Character Evidence \nSpeaker to be confirmed \nWhen can character evidence of the defendant can be introduced? When can character evidence of the plaintiff can be introduced? This presentation will dive into pertinent traits of character as defined by section 90.404\, Florida Statutes.  How does “Williams Rule” evidence come into play?\n\n\n12:00-1:00\nLUNCH PROVIDED ONSITE\n\n\n12:20-1:00\nAdmissibility of Remote Testimony and Digital Signatures \nSpeaker to be confirmed \nCOVID impacted the legal profession in many ways\, but one of the most significant changes is the ability to testify remotely. Requiring courts to permit court proceedings to occur through electronic means allows witnesses to testify without coming to the courthouse. What are the best practices for exchanging exhibits\, for ensuring witnesses who are laying the predicate for evidence have a copy of the evidence\, ensuring your witness has the necessary technology to be able to participate? Wet ink versus audit trails: this presentation will detail the case law that established the binding nature of digital signatures. Haire v. Fl. Dept. of Agric. and Consumer Servs.\, 870 So.2d 774 (Fla. 2004); IO Moonwalkers\, Inc. v. Banc of Am. Merch. Servs.\, LLC\, 814 S.E.2d 583 (N.C. Ct. App. 2018); Newton v. Am. Debt Servs.\, 854 F.Supp.2d 712 (N.D. Cal. 2012).\n\n\n1:00-1:50\nPreservation of Evidentiary Errors for Appellate Review \nMihaela Cabulea\, Esq. & Michael Ufferman\, Esq. \nThe first thing an appellate court will review is whether the error in question was properly preserved at the trial court level\, and unfortunately numerous cases each year are rejected on preservation grounds before the appellate court even reaches the merits of the case.  This presentation will provide tips on how to properly preserve claims for appeal.  Mihaela Cabulea will discuss what must be done to preserve particular types of claims in civil cases\, and Michael Ufferman will discuss what must be done to preserve particular types of claims in criminal cases.\n\n\n2:00-2:50\nGenerative AI in Legal Practice \nPhilip Asher Gold\, Esq. & Carlos J. Martinez\, Esq. \nPresentation will answer the questions “what is generative artificial intelligence” and how does it impact the court system? Lawyers use AI to assist with legal research and contract review. Doctors use AI when creating clinical patient summaries.  This presentation will address ethics opinions from the bar\, Federal law\, evidentiary concerns\, and ways in which AI can be helpful to lawyers and the court system. \n \n\n\n3:00-3:50\nExpert Witness Fees \nSpeaker to be confirmed \nSpeaker will discuss the interplay between Rule Regulating The Florida Bar 4-3.4\, section 92.231\, Florida Statutes\, as well as pertinent case law regarding fees for expert witnesses. Can an expert witness be reimbursed for travel time? How about the time needed to prepare to testify?\n\n\n4:00-4:50\nCase Law Update Post-HB 837 \nAndrew A. Harris\, Esq. & Grace Streicher\, Esq. \nThis presentation will discuss the changes that have occurred with the implementation of HB 827\, including changes to what medical expenses can be presented to the jury\, how letters of protection are now treated\, the impact of “unbundling” of CTP codes. The presenters will highlight the changes to the legal practice caused by HB 837.\n\n\n4:50-5:00\nClosing Remarks
URL:https://floridabarcls.org/event/21134/
LOCATION:Orange County Bar Association\, Orlando\, FL\, United States
CATEGORIES:events,Upcoming CLE Courses
ATTACH;FMTTYPE=image/png:https://floridabarcls.org/wp-content/uploads/2025/01/Hot-Topics-in-Evidence-2025-WEB.png
END:VEVENT
END:VCALENDAR